BEGIN:VCALENDAR
VERSION:2.0
PRODID:-//UFF-FAU - ECPv6.15.18//NONSGML v1.0//EN
CALSCALE:GREGORIAN
METHOD:PUBLISH
X-ORIGINAL-URL:https://uff-fau.org
X-WR-CALDESC:Events for UFF-FAU
REFRESH-INTERVAL;VALUE=DURATION:PT1H
X-Robots-Tag:noindex
X-PUBLISHED-TTL:PT1H
BEGIN:VTIMEZONE
TZID:America/New_York
BEGIN:DAYLIGHT
TZOFFSETFROM:-0500
TZOFFSETTO:-0400
TZNAME:EDT
DTSTART:20240310T070000
END:DAYLIGHT
BEGIN:STANDARD
TZOFFSETFROM:-0400
TZOFFSETTO:-0500
TZNAME:EST
DTSTART:20241103T060000
END:STANDARD
BEGIN:DAYLIGHT
TZOFFSETFROM:-0500
TZOFFSETTO:-0400
TZNAME:EDT
DTSTART:20250309T070000
END:DAYLIGHT
BEGIN:STANDARD
TZOFFSETFROM:-0400
TZOFFSETTO:-0500
TZNAME:EST
DTSTART:20251102T060000
END:STANDARD
BEGIN:DAYLIGHT
TZOFFSETFROM:-0500
TZOFFSETTO:-0400
TZNAME:EDT
DTSTART:20260308T070000
END:DAYLIGHT
BEGIN:STANDARD
TZOFFSETFROM:-0400
TZOFFSETTO:-0500
TZNAME:EST
DTSTART:20261101T060000
END:STANDARD
END:VTIMEZONE
BEGIN:VEVENT
DTSTART;TZID=America/New_York:20250320T080000
DTEND;TZID=America/New_York:20250320T190000
DTSTAMP:20260424T212838
CREATED:20250225T162825Z
LAST-MODIFIED:20250225T162825Z
UID:3252-1742457600-1742497200@uff-fau.org
SUMMARY:Solidarity Cinema Series: Union (2024)
DESCRIPTION:Building towards our recruiting blitz week\, March 31-April 4\, UFF-FAU is sponsoring the screening of the documentary\, Union\, during the Solidarity Cinema Series. If you haven’t signed up for the blitz week yet\, please do so by emailing our membership and organizing co-chair at jake.henson4@gmail.com.  \nNominated for an Academy Award for feature length documentary\, Union follows the formation of the first Amazon union\, at a fulfillment center in Staten Island\, New York. For fear of alienating Amazon\, no commercial distributors have picked up the film to provide theatrical or online releases. But Solidarity Cinema Series will be offering a special screening of the film on March 20\, followed by a Q&A with filmmaker Brett Story and former Amazon employee and organizer Zack Boff.  The discussion will be moderated by Dr. Christopher Robé. \nMarch 20\, 7 PM\, CU 109 (Living Room Theaters) \nSolidarity Cinema Series \nPartnership between United Faculty of Florida- FAU\, School of Communication and Multimedia Studies\, and the Center for Peace\, Justice and Human Rights
URL:https://uff-fau.org/event/solidarity-cinema-series-union-2024/
LOCATION:CU 109 (formlery Living Room Theater)\, 777 Glades Road\, Culture and Society Building\, Boca Raton\, FL
END:VEVENT
END:VCALENDAR