BEGIN:VCALENDAR
VERSION:2.0
PRODID:-//UFF-FAU - ECPv6.15.18//NONSGML v1.0//EN
CALSCALE:GREGORIAN
METHOD:PUBLISH
X-ORIGINAL-URL:https://uff-fau.org
X-WR-CALDESC:Events for UFF-FAU
REFRESH-INTERVAL;VALUE=DURATION:PT1H
X-Robots-Tag:noindex
X-PUBLISHED-TTL:PT1H
BEGIN:VTIMEZONE
TZID:America/New_York
BEGIN:DAYLIGHT
TZOFFSETFROM:-0500
TZOFFSETTO:-0400
TZNAME:EDT
DTSTART:20240310T070000
END:DAYLIGHT
BEGIN:STANDARD
TZOFFSETFROM:-0400
TZOFFSETTO:-0500
TZNAME:EST
DTSTART:20241103T060000
END:STANDARD
BEGIN:DAYLIGHT
TZOFFSETFROM:-0500
TZOFFSETTO:-0400
TZNAME:EDT
DTSTART:20250309T070000
END:DAYLIGHT
BEGIN:STANDARD
TZOFFSETFROM:-0400
TZOFFSETTO:-0500
TZNAME:EST
DTSTART:20251102T060000
END:STANDARD
BEGIN:DAYLIGHT
TZOFFSETFROM:-0500
TZOFFSETTO:-0400
TZNAME:EDT
DTSTART:20260308T070000
END:DAYLIGHT
BEGIN:STANDARD
TZOFFSETFROM:-0400
TZOFFSETTO:-0500
TZNAME:EST
DTSTART:20261101T060000
END:STANDARD
BEGIN:DAYLIGHT
TZOFFSETFROM:-0500
TZOFFSETTO:-0400
TZNAME:EDT
DTSTART:20270314T070000
END:DAYLIGHT
BEGIN:STANDARD
TZOFFSETFROM:-0400
TZOFFSETTO:-0500
TZNAME:EST
DTSTART:20271107T060000
END:STANDARD
END:VTIMEZONE
BEGIN:VEVENT
DTSTART;TZID=America/New_York:20260402T080000
DTEND;TZID=America/New_York:20260402T170000
DTSTAMP:20260423T121116
CREATED:20251206T212557Z
LAST-MODIFIED:20251206T212557Z
UID:3480-1775116800-1775149200@uff-fau.org
SUMMARY:April Social Happy Hour
DESCRIPTION:
URL:https://uff-fau.org/event/april-social-happy-hour/
LOCATION:The Irishmen
END:VEVENT
BEGIN:VEVENT
DTSTART;TZID=America/New_York:20260326T190000
DTEND;TZID=America/New_York:20260326T220000
DTSTAMP:20260423T121116
CREATED:20260311T153433Z
LAST-MODIFIED:20260311T153433Z
UID:3499-1774551600-1774562400@uff-fau.org
SUMMARY:Solidarity Cinema Series: Community Justice Project
DESCRIPTION:The next Solidarity Cinema Series screening will be on March 26 at 7 PM in CU 107 in our campus movie theaters. Community Justice Project will be traveling up from Miami to show a selection of films in their series where they team up filmmakers with local community organizers. \nThe films spotlight local movements fighting back against wage theft\, gentrification\, and hunger. \nNadege Green\, Director of Community Research and Storytelling\, will be leading the post-screening discussion. \nMarch 26\, 7 PM \nCU 107 (Campus Movie Theaters) \nSolidarity Cinema Series \nPartnership between School of Communication and Multimedia Studies\, Center for Peace\, Justice and Human Rights\, and UFF-FAU
URL:https://uff-fau.org/event/solidarity-cinema-series-community-justice-project/
LOCATION:CU 107 (formerly the Living Room Theaters)\, 777 Glades Road\, Culture and Society Building\, Boca Raton\, FL
END:VEVENT
BEGIN:VEVENT
DTSTART;TZID=America/New_York:20260321T130000
DTEND;TZID=America/New_York:20260321T150000
DTSTAMP:20260423T121116
CREATED:20260216T171034Z
LAST-MODIFIED:20260216T171034Z
UID:3494-1774098000-1774105200@uff-fau.org
SUMMARY:Putt'n Around
DESCRIPTION:Join us for our family-friendly putt-putt golf event!
URL:https://uff-fau.org/event/puttn-around/
LOCATION:Putt’n Around\, Delray Beach\, 350 NE 5th Ave\, Delray Beach\, 33483\, United States
END:VEVENT
BEGIN:VEVENT
DTSTART;TZID=America/New_York:20260320T123000
DTEND;TZID=America/New_York:20260320T133000
DTSTAMP:20260423T121116
CREATED:20251201T163852Z
LAST-MODIFIED:20251201T163852Z
UID:3472-1774009800-1774013400@uff-fau.org
SUMMARY:March EC Meeting
DESCRIPTION:
URL:https://uff-fau.org/event/march-ec-meeting/
END:VEVENT
BEGIN:VEVENT
DTSTART;TZID=America/New_York:20260306T160000
DTEND;TZID=America/New_York:20260306T180000
DTSTAMP:20260423T121116
CREATED:20251206T212449Z
LAST-MODIFIED:20251206T212449Z
UID:3478-1772812800-1772820000@uff-fau.org
SUMMARY:March Social Happy Hour
DESCRIPTION:
URL:https://uff-fau.org/event/march-social-happy-hour/
LOCATION:The Irishmen
END:VEVENT
BEGIN:VEVENT
DTSTART;TZID=America/New_York:20260220T140000
DTEND;TZID=America/New_York:20260220T150000
DTSTAMP:20260423T121116
CREATED:20260207T212419Z
LAST-MODIFIED:20260207T212419Z
UID:3491-1771596000-1771599600@uff-fau.org
SUMMARY:Town Hall
DESCRIPTION:Join us for our virtual town hall on February 20th at 2 p.m. where we will provide further discussion and clarification on the CBA language\, especially pertinent to non-renewal of our contingent instructors and FAUS one-year contract employees. The town hall will include a discussion of academic freedom and free speech as it pertains to our activity on and off campus\, the protections offered by our collective bargaining agreement\, and an open forum.
URL:https://uff-fau.org/event/town-hall/
END:VEVENT
BEGIN:VEVENT
DTSTART;TZID=America/New_York:20260220T123000
DTEND;TZID=America/New_York:20260220T133000
DTSTAMP:20260423T121116
CREATED:20251201T163741Z
LAST-MODIFIED:20251201T163741Z
UID:3470-1771590600-1771594200@uff-fau.org
SUMMARY:February EC meeting
DESCRIPTION:
URL:https://uff-fau.org/event/february-ec-meeting/
END:VEVENT
BEGIN:VEVENT
DTSTART;TZID=America/New_York:20260218T080000
DTEND;TZID=America/New_York:20260318T170000
DTSTAMP:20260423T121116
CREATED:20260207T211525Z
LAST-MODIFIED:20260207T211525Z
UID:3489-1771401600-1773853200@uff-fau.org
SUMMARY:PERC Recertification Election
DESCRIPTION:Support your Union. Do not lose the benefits and protections in your CBA. Be sure to cast and mail your ballot by March 10\, 2026\, to ensure your voice is heard and your vote is counted!
URL:https://uff-fau.org/event/perc-recertification-election/
END:VEVENT
BEGIN:VEVENT
DTSTART;TZID=America/New_York:20260212T190000
DTEND;TZID=America/New_York:20260212T213000
DTSTAMP:20260423T121116
CREATED:20260127T001044Z
LAST-MODIFIED:20260127T001044Z
UID:3483-1770922800-1770931800@uff-fau.org
SUMMARY:Solidarity Cinema Series: Freedom Riders
DESCRIPTION:The next Solidarity Cinema Series screening will be on February 12 at 7 PM in CU 107 in our campus movies theaters. We will be screening the documentary Freedom Riders (2010) that chronicles the inspirational six months in 1961 when more than 400 black and white Americans risked their lives for by simply traveling together on buses and trains as they journeyed through the Deep South\, deliberately violating Jim Crow laws in order to test and challenge a segregated interstate travel system. \nWe will be joined by Dr. Raymond Arsenault\, author of the book the documentary is based on\, Dr. Evan Bennett (History)\, and Dr. Stephen Charbonneau (Film and Media Studies) in the post-screening discussion. \nFebruary 12\, 7 PM \nCU 107 (Campus Movie Theaters) \nSolidarity Cinema Series \nPartnership between School of Communication and Multimedia Studies\, Center for Peace\, Justice and Human Rights\, and UFF-FAU
URL:https://uff-fau.org/event/solidarity-cinema-series-freedom-riders/
LOCATION:CU 107 (formerly the Living Room Theaters)\, 777 Glades Road\, Culture and Society Building\, Boca Raton\, FL
END:VEVENT
BEGIN:VEVENT
DTSTART;TZID=America/New_York:20260206T160000
DTEND;TZID=America/New_York:20260206T180000
DTSTAMP:20260423T121116
CREATED:20251206T212336Z
LAST-MODIFIED:20251206T212336Z
UID:3476-1770393600-1770400800@uff-fau.org
SUMMARY:First 2026 Social/Happy Hour
DESCRIPTION:Union Members\, Join us at the Irishmens!
URL:https://uff-fau.org/event/first-2026-social-happy-hour/
LOCATION:The Irishmen
END:VEVENT
BEGIN:VEVENT
DTSTART;TZID=America/New_York:20251206T130000
DTEND;TZID=America/New_York:20251206T150000
DTSTAMP:20260423T121116
CREATED:20251104T222605Z
LAST-MODIFIED:20251121T172310Z
UID:3455-1765026000-1765033200@uff-fau.org
SUMMARY:Family Bowling Fun
DESCRIPTION:Join us for a family-friendly and fun afternoon of bowling at Lucky Strike. Food and drinks provided.
URL:https://uff-fau.org/event/family-bowling-fun/
LOCATION:21046 Commercial Trl\, Boca Raton\, FL 33486\, 21046 Commercial Trl\, Boca Raton\, Fl\, 33486
END:VEVENT
BEGIN:VEVENT
DTSTART;TZID=America/New_York:20251124T110000
DTEND;TZID=America/New_York:20251124T120000
DTSTAMP:20260423T121116
CREATED:20250801T165606Z
LAST-MODIFIED:20250806T154846Z
UID:3374-1763982000-1763985600@uff-fau.org
SUMMARY:November Executive Meeting
DESCRIPTION:
URL:https://uff-fau.org/event/november-executive-meeting/
LOCATION:Zoom
END:VEVENT
BEGIN:VEVENT
DTSTART;TZID=America/New_York:20251107T160000
DTEND;TZID=America/New_York:20251107T180000
DTSTAMP:20260423T121116
CREATED:20250809T190330Z
LAST-MODIFIED:20250809T190330Z
UID:3396-1762531200-1762538400@uff-fau.org
SUMMARY:November Social Happy Hour
DESCRIPTION:
URL:https://uff-fau.org/event/november-social-happy-hour/
LOCATION:The Irishmen
END:VEVENT
BEGIN:VEVENT
DTSTART;TZID=America/New_York:20251103T080000
DTEND;TZID=America/New_York:20251107T170000
DTSTAMP:20260423T121116
CREATED:20251104T222805Z
LAST-MODIFIED:20251104T222805Z
UID:3459-1762156800-1762534800@uff-fau.org
SUMMARY:Fall 2025 Blitz Week!
DESCRIPTION:
URL:https://uff-fau.org/event/fall-2025-blitz-week/
END:VEVENT
BEGIN:VEVENT
DTSTART;TZID=America/New_York:20251020T110000
DTEND;TZID=America/New_York:20251020T121500
DTSTAMP:20260423T121116
CREATED:20250801T165513Z
LAST-MODIFIED:20250806T154753Z
UID:3372-1760958000-1760962500@uff-fau.org
SUMMARY:October Executive Committee Meeting
DESCRIPTION:
URL:https://uff-fau.org/event/october-executive-committee-meeting/
LOCATION:Zoom
END:VEVENT
BEGIN:VEVENT
DTSTART;TZID=America/New_York:20251009T190000
DTEND;TZID=America/New_York:20251009T220000
DTSTAMP:20260423T121116
CREATED:20251006T221020Z
LAST-MODIFIED:20251006T222054Z
UID:3439-1760036400-1760047200@uff-fau.org
SUMMARY:Solidarity Cinema: Boat People (2024) and Black Girl (1966)
DESCRIPTION:  \n  \nGiven the centrality of immigration in recent news and South Florida serving as a hub for various immigrant communities\, we will be screening Boat People (2024)\, a short form fiction film about Haitian refugees who were held in Guantanamo Bay in the 1990s\, and Black Girl (1966)\, the first Black independent Senegalese film that follows a Senegalese woman who moves to France to work for a wealthy family. Al’lkens Plancher\, the director of Boat People\, and Renata Bozzetto\, Deputy Director of the Florida Immigrant Rights Coalition\, will join us in a post-screening discussion. \nOctober 9\, 2025\, 7 PM \nCU 110 (Campus Movie Theaters) \nSolidarity Cinema Series \nPartnership between School of Communication and Multimedia Studies\, Center for Peace\, Justice and Human Rights\, and UFF-FAU
URL:https://uff-fau.org/event/solidarity-cinema-boat-people-2024-and-black-girl-1966/
LOCATION:CU 110 (Culture and Society Bldg\, Florida Atlantic University)\, 777 Glades Road\, Culture and Society Building\, Boca Raton
END:VEVENT
BEGIN:VEVENT
DTSTART;TZID=America/New_York:20251009T190000
DTEND;TZID=America/New_York:20251009T203000
DTSTAMP:20260423T121116
CREATED:20251006T215823Z
LAST-MODIFIED:20251006T215823Z
UID:3433-1760036400-1760041800@uff-fau.org
SUMMARY:Free Speech Doesn’t Defend Itself
DESCRIPTION:Outraged by the growing attacks on free speech in schools and on college campuses? \nJoin a powerful panel discussion on how we can defend free speech\, support those who’ve been targeted or fired for speaking out and take meaningful action to protect democracy. \nThe panel will feature Nicholas Ostheimer\, President of FAU College Democrats\, Adam Roberti\, Board Member of Broward Young Democrats\, Dariel Gomez\, Miami-Dade Organizer with ACLU of Florida and other special guests. \n🔗 Don’t miss it—make your voice part of the movement!
URL:https://uff-fau.org/event/free-speech-doesnt-defend-itself/
END:VEVENT
BEGIN:VEVENT
DTSTART;TZID=America/New_York:20251006T190000
DTEND;TZID=America/New_York:20251006T200000
DTSTAMP:20260423T121116
CREATED:20251002T184330Z
LAST-MODIFIED:20251002T184330Z
UID:3427-1759777200-1759780800@uff-fau.org
SUMMARY:Politicizing Accreditation in the South and Beyond (AAUP)
DESCRIPTION:This webinar will discuss the implications of dropping independent accreditation systems for the state-controlled Commission for Public Higher Education (CPHE). Although its planning document includes some seemingly harmless language\, the CPHE is dominated by powerful conservative politicians\, like Florida Governor Ron DeSantis\, who likely want to use it to extend their control of the State University System of Florida\, the Texas A&M University System\, the University System of Georgia\, the University of North Carolina System\, the University of South Carolina System\, the University of Tennessee System\, and other higher education systems in the south and beyond. This webinar will explore the historic importance of independent accreditation systems for maintaining professional norms and standards for public higher education and examine the threats a politicized accreditation system poses to academic freedom\, faculty voice in curriculum\, and shared governance. \nClick the link below to sign up.
URL:https://uff-fau.org/event/politicizing-accreditation-in-the-south-and-beyond-aaup/
END:VEVENT
BEGIN:VEVENT
DTSTART;TZID=America/New_York:20251002T160000
DTEND;TZID=America/New_York:20251002T180000
DTSTAMP:20260423T121116
CREATED:20250809T185804Z
LAST-MODIFIED:20250809T185804Z
UID:3392-1759420800-1759428000@uff-fau.org
SUMMARY:October Social Happy Hour
DESCRIPTION:
URL:https://uff-fau.org/event/october-social-happy-hour/
LOCATION:The Irishmen
END:VEVENT
BEGIN:VEVENT
DTSTART;TZID=America/New_York:20250926T123000
DTEND;TZID=America/New_York:20250926T133000
DTSTAMP:20260423T121116
CREATED:20250902T172334Z
LAST-MODIFIED:20250902T172334Z
UID:3416-1758889800-1758893400@uff-fau.org
SUMMARY:2025-2026 UFF-FAU Welcome Luncheon
DESCRIPTION:We will be hosting a luncheon for our new faculty here at FAU and for our returning members.
URL:https://uff-fau.org/event/2025-2026-uff-fau-welcome-luncheon/
LOCATION:Student Union Live Oak
END:VEVENT
BEGIN:VEVENT
DTSTART;TZID=America/New_York:20250925T160000
DTEND;TZID=America/New_York:20250925T170000
DTSTAMP:20260423T121116
CREATED:20250916T193931Z
LAST-MODIFIED:20250916T194212Z
UID:3423-1758816000-1758819600@uff-fau.org
SUMMARY:Town Hall - Free Speech and Recent Events
DESCRIPTION:Join us for our virtual town hall that is open to all faculty.
URL:https://uff-fau.org/event/town-hall-free-speech-and-recent-events/
LOCATION:Zoom
END:VEVENT
BEGIN:VEVENT
DTSTART;TZID=America/New_York:20250922T110000
DTEND;TZID=America/New_York:20250922T121500
DTSTAMP:20260423T121116
CREATED:20250801T165413Z
LAST-MODIFIED:20250806T154731Z
UID:3370-1758538800-1758543300@uff-fau.org
SUMMARY:September Executive Meeting
DESCRIPTION:
URL:https://uff-fau.org/event/september-executive-meeting/
LOCATION:Zoom
END:VEVENT
BEGIN:VEVENT
DTSTART;TZID=America/New_York:20250920T080000
DTEND;TZID=America/New_York:20250921T170000
DTSTAMP:20260423T121116
CREATED:20250809T190220Z
LAST-MODIFIED:20250809T190220Z
UID:3394-1758355200-1758474000@uff-fau.org
SUMMARY:UFF Senate Meeting
DESCRIPTION:This year’s Senate will be held in Kissimmee Florida
URL:https://uff-fau.org/event/uff-senate-meeting/
END:VEVENT
BEGIN:VEVENT
DTSTART;TZID=America/New_York:20250905T160000
DTEND;TZID=America/New_York:20250905T180000
DTSTAMP:20260423T121116
CREATED:20250809T185715Z
LAST-MODIFIED:20250809T185715Z
UID:3390-1757088000-1757095200@uff-fau.org
SUMMARY:Social Happy Hour
DESCRIPTION:Join us Friday\, September 5th.
URL:https://uff-fau.org/event/social-happy-hour/
LOCATION:The Irishmen
END:VEVENT
BEGIN:VEVENT
DTSTART;TZID=America/New_York:20250902T183000
DTEND;TZID=America/New_York:20250902T193000
DTSTAMP:20260423T121116
CREATED:20250813T203317Z
LAST-MODIFIED:20250813T203400Z
UID:3410-1756837800-1756841400@uff-fau.org
SUMMARY:Know Your Rights for Immigrants: University Faculty and Staff
DESCRIPTION:ACLU Florida is hosting a training session geared toward faculty and staff.  If you want to attend\, register here
URL:https://uff-fau.org/event/know-your-rights-for-immigrants-university-faculty-and-staff/
END:VEVENT
BEGIN:VEVENT
DTSTART;TZID=America/New_York:20250825T110000
DTEND;TZID=America/New_York:20250825T121500
DTSTAMP:20260423T121116
CREATED:20250806T154423Z
LAST-MODIFIED:20250806T154423Z
UID:3381-1756119600-1756124100@uff-fau.org
SUMMARY:August Executive Committee Meeting
DESCRIPTION:
URL:https://uff-fau.org/event/august-executive-committee-meeting-2/
END:VEVENT
BEGIN:VEVENT
DTSTART;TZID=America/New_York:20250821T160000
DTEND;TZID=America/New_York:20250821T180000
DTSTAMP:20260423T121116
CREATED:20250809T185516Z
LAST-MODIFIED:20250809T185516Z
UID:3387-1755792000-1755799200@uff-fau.org
SUMMARY:Welcome Back Social
DESCRIPTION:We welcome all our members and new hires to join us\, Thursday\, August 2\, for our welcome back social happy hour.
URL:https://uff-fau.org/event/welcome-back-social/
LOCATION:The Irishmen
END:VEVENT
BEGIN:VEVENT
DTSTART;TZID=America/New_York:20250531T130000
DTEND;TZID=America/New_York:20250531T170000
DTSTAMP:20260423T121116
CREATED:20250522T154915Z
LAST-MODIFIED:20250527T152652Z
UID:3307-1748696400-1748710800@uff-fau.org
SUMMARY:South Florida Workers Power Forum
DESCRIPTION:The event has been organized by a coalition of South Florida labor and community organizations\, including your dear old union\, United Faculty of Florida\, featuring speakers from the FAU and FIU chapters. It will feature four panels: \n1) Organizing the unorganized\n2) Building union power\n3) Organizing against state repression\n4) Organizing for migrant justice. \n It will draw together members from the Communications Workers of America\, UNITE HERE\, Starbucks Workers United\, Association of Flight Attendants\, National Association of Letter Carriers\, International Union of Painters and Allied Trades\, American Federation of Government Employees\, and more. The goal of the event is not simply to discuss these critical issues\, but also to build coalitions among unions across sectors to strengthen our power and building critical momentum in defense of all workers’ rights. \nSign up here.
URL:https://uff-fau.org/event/south-florida-labor-forum/
LOCATION:The South Florida AFL-CIO Hall\, 4349 NW 36th St #102\, Miami Springs\, 33166\, United States
END:VEVENT
BEGIN:VEVENT
DTSTART;TZID=America/New_York:20250503T130000
DTEND;TZID=America/New_York:20250503T160000
DTSTAMP:20260423T121116
CREATED:20250303T060437Z
LAST-MODIFIED:20250321T181514Z
UID:3273-1746277200-1746288000@uff-fau.org
SUMMARY:Annual End of Year Lake Ida Park Event
DESCRIPTION:Union Members\, Please join us again this year for our annual end of the academic year. Have fun\, and great conversations\, eat\, and bring your luck for our raffle of fun goodies. This is a family-friendly event\, bring the children and your four-legged furry babies.
URL:https://uff-fau.org/event/annual-end-of-year-lake-ida-park-event/
LOCATION:1455 Lake Ida Road\, Delray Beach\, Florida
END:VEVENT
BEGIN:VEVENT
DTSTART;TZID=America/New_York:20250428T110000
DTEND;TZID=America/New_York:20250428T123000
DTSTAMP:20260423T121116
CREATED:20250325T222850Z
LAST-MODIFIED:20250325T222850Z
UID:3286-1745838000-1745843400@uff-fau.org
SUMMARY:Final Spring EC Meeting
DESCRIPTION:Join us for our final EC meeting.
URL:https://uff-fau.org/event/final-spring-ec-meeting/
LOCATION:Zoom
END:VEVENT
END:VCALENDAR