BEGIN:VCALENDAR
VERSION:2.0
PRODID:-//UFF-FAU - ECPv6.15.18//NONSGML v1.0//EN
CALSCALE:GREGORIAN
METHOD:PUBLISH
X-WR-CALNAME:UFF-FAU
X-ORIGINAL-URL:https://uff-fau.org
X-WR-CALDESC:Events for UFF-FAU
REFRESH-INTERVAL;VALUE=DURATION:PT1H
X-Robots-Tag:noindex
X-PUBLISHED-TTL:PT1H
BEGIN:VTIMEZONE
TZID:America/New_York
BEGIN:DAYLIGHT
TZOFFSETFROM:-0500
TZOFFSETTO:-0400
TZNAME:EDT
DTSTART:20230312T070000
END:DAYLIGHT
BEGIN:STANDARD
TZOFFSETFROM:-0400
TZOFFSETTO:-0500
TZNAME:EST
DTSTART:20231105T060000
END:STANDARD
BEGIN:DAYLIGHT
TZOFFSETFROM:-0500
TZOFFSETTO:-0400
TZNAME:EDT
DTSTART:20240310T070000
END:DAYLIGHT
BEGIN:STANDARD
TZOFFSETFROM:-0400
TZOFFSETTO:-0500
TZNAME:EST
DTSTART:20241103T060000
END:STANDARD
BEGIN:DAYLIGHT
TZOFFSETFROM:-0500
TZOFFSETTO:-0400
TZNAME:EDT
DTSTART:20250309T070000
END:DAYLIGHT
BEGIN:STANDARD
TZOFFSETFROM:-0400
TZOFFSETTO:-0500
TZNAME:EST
DTSTART:20251102T060000
END:STANDARD
END:VTIMEZONE
BEGIN:VEVENT
DTSTART;TZID=America/New_York:20241026T130000
DTEND;TZID=America/New_York:20241026T150000
DTSTAMP:20260423T200144
CREATED:20241003T150605Z
LAST-MODIFIED:20241003T150605Z
UID:3053-1729947600-1729954800@uff-fau.org
SUMMARY:Bowling
DESCRIPTION:
URL:https://uff-fau.org/event/bowling/
LOCATION:Bowlero\, Boca Raton\, 21046 Commercial Trail\, Boca Raton\, FL\, 33486\, United States
END:VEVENT
BEGIN:VEVENT
DTSTART;TZID=America/New_York:20241024T120000
DTEND;TZID=America/New_York:20241024T130000
DTSTAMP:20260423T200144
CREATED:20241003T150413Z
LAST-MODIFIED:20241003T150413Z
UID:3050-1729771200-1729774800@uff-fau.org
SUMMARY:Bargaining Townhall & Related Concerns
DESCRIPTION:
URL:https://uff-fau.org/event/bargaining-townhall-related-concerns/
LOCATION:Zoom
END:VEVENT
BEGIN:VEVENT
DTSTART;VALUE=DATE:20241018
DTEND;VALUE=DATE:20241021
DTSTAMP:20260423T200144
CREATED:20241003T150301Z
LAST-MODIFIED:20241003T150331Z
UID:3045-1729209600-1729468799@uff-fau.org
SUMMARY:UFF Senate
DESCRIPTION:
URL:https://uff-fau.org/event/solidarity-cinema-series/
LOCATION:Orlando
END:VEVENT
BEGIN:VEVENT
DTSTART;TZID=America/New_York:20241004T160000
DTEND;TZID=America/New_York:20241004T180000
DTSTAMP:20260423T200144
CREATED:20241003T150117Z
LAST-MODIFIED:20241003T150117Z
UID:3042-1728057600-1728064800@uff-fau.org
SUMMARY:Happy Hour
DESCRIPTION:
URL:https://uff-fau.org/event/happy-hour/
LOCATION:The Irishman
END:VEVENT
END:VCALENDAR