BEGIN:VCALENDAR
VERSION:2.0
PRODID:-//UFF-FAU - ECPv6.15.18//NONSGML v1.0//EN
CALSCALE:GREGORIAN
METHOD:PUBLISH
X-ORIGINAL-URL:https://uff-fau.org
X-WR-CALDESC:Events for UFF-FAU
REFRESH-INTERVAL;VALUE=DURATION:PT1H
X-Robots-Tag:noindex
X-PUBLISHED-TTL:PT1H
BEGIN:VTIMEZONE
TZID:America/New_York
BEGIN:DAYLIGHT
TZOFFSETFROM:-0500
TZOFFSETTO:-0400
TZNAME:EDT
DTSTART:20240310T070000
END:DAYLIGHT
BEGIN:STANDARD
TZOFFSETFROM:-0400
TZOFFSETTO:-0500
TZNAME:EST
DTSTART:20241103T060000
END:STANDARD
BEGIN:DAYLIGHT
TZOFFSETFROM:-0500
TZOFFSETTO:-0400
TZNAME:EDT
DTSTART:20250309T070000
END:DAYLIGHT
BEGIN:STANDARD
TZOFFSETFROM:-0400
TZOFFSETTO:-0500
TZNAME:EST
DTSTART:20251102T060000
END:STANDARD
BEGIN:DAYLIGHT
TZOFFSETFROM:-0500
TZOFFSETTO:-0400
TZNAME:EDT
DTSTART:20260308T070000
END:DAYLIGHT
BEGIN:STANDARD
TZOFFSETFROM:-0400
TZOFFSETTO:-0500
TZNAME:EST
DTSTART:20261101T060000
END:STANDARD
END:VTIMEZONE
BEGIN:VEVENT
DTSTART;TZID=America/New_York:20250110T160000
DTEND;TZID=America/New_York:20250110T180000
DTSTAMP:20260424T225839
CREATED:20250106T215447Z
LAST-MODIFIED:20250106T215447Z
UID:3223-1736524800-1736532000@uff-fau.org
SUMMARY:UFF-FAU Happy Hour
DESCRIPTION:Welcome back to campus and the fight for 60% density. Please join us for the first happy hour of Spring 2025 at The Irishman this Friday! Try to bring a non-member colleague. Let’s enjoy each other’s company\, hear union updates\, and plan for the long future of UFF solidarity at FAU! \nUFF-FAU Happy Hour \nFriday\, January 10th\, 2025\, from 4 pm-6 pm \nThe Irishman \n1745 NW 2nd Ave \nBoca Raton\, FL 33432 \nAs always\, tapas and drinks will be provided. We have reserved a space indoors\, but the location has outdoor space as well. \nWe will see you there! \nFuture Save the Dates: \n\n\nJanuary 30th: Solidarity Cinema Series\, Do The Right Thing\, from 7:00-10:00 p.m. in Culture and Society room 109. Discussion with Actor Ginny Yang following the film. \n\n\nIn Solidarity\, \nUFF-FAU Executive Committee
URL:https://uff-fau.org/event/uff-fau-happy-hour/
LOCATION:The Irishman
END:VEVENT
BEGIN:VEVENT
DTSTART;TZID=America/New_York:20250117T100000
DTEND;TZID=America/New_York:20250117T130000
DTSTAMP:20260424T225839
CREATED:20241220T161444Z
LAST-MODIFIED:20250111T195728Z
UID:3208-1737108000-1737118800@uff-fau.org
SUMMARY:Bargaining Session
DESCRIPTION:
URL:https://uff-fau.org/event/bargaining-session-3/
LOCATION:Zoom
END:VEVENT
BEGIN:VEVENT
DTSTART;TZID=America/New_York:20250127T110000
DTEND;TZID=America/New_York:20250127T120000
DTSTAMP:20260424T225839
CREATED:20241204T214514Z
LAST-MODIFIED:20241204T215631Z
UID:3198-1737975600-1737979200@uff-fau.org
SUMMARY:Executive Committee Meeting
DESCRIPTION:All members are welcome to join.
URL:https://uff-fau.org/event/executive-committee-meeting/
LOCATION:Zoom
END:VEVENT
BEGIN:VEVENT
DTSTART;TZID=America/New_York:20250130T190000
DTEND;TZID=America/New_York:20250130T220000
DTSTAMP:20260424T225839
CREATED:20241220T175635Z
LAST-MODIFIED:20241220T175635Z
UID:3214-1738263600-1738274400@uff-fau.org
SUMMARY:Solidarity Cinema Series: Do The Right Thing
DESCRIPTION:Thirty-five years ago\, Spike Lee released Do The Right Thing (1989)\, an evocative film that investigates many of the racial tensions and concerns about policing that still plague us today. After the screening\, we will hear from actress Ginny Yang\, who was in the film\, about her experiences on the set and acting overall. Dr. Regis M. Fox will also offer insights. \nJanuary 30\, 7 PM\, CU 109 (Living Room Theaters) \nSolidarity Cinema Series \nPartnership between School of Communication and Multimedia Studies\, Center for Peace\, Justice and Human Rights\, and UFF-FAU
URL:https://uff-fau.org/event/solidarity-cinema-series-do-the-right-thing/
END:VEVENT
BEGIN:VEVENT
DTSTART;TZID=America/New_York:20250131T130000
DTEND;TZID=America/New_York:20250131T160000
DTSTAMP:20260424T225839
CREATED:20241220T161656Z
LAST-MODIFIED:20241220T161656Z
UID:3210-1738328400-1738339200@uff-fau.org
SUMMARY:Bargaining Session
DESCRIPTION:Join us for our 6th bargaining session.
URL:https://uff-fau.org/event/bargaining-session-5/
LOCATION:Zoom
END:VEVENT
END:VCALENDAR